BEGIN:VCALENDAR
VERSION:2.0
PRODID:-//casaofhillcounty.org//NONSGML kigkonsult.se iCalcreator 2.30.10//
CALSCALE:GREGORIAN
METHOD:PUBLISH
UID:a6ca8b5d-14d1-4faa-9658-58f512f55222
X-WR-CALDESC:Dinner to celebrate our CASA volunteers.  The Board of Directo
 rs will provide a dinner for all volunteers at First Lutheran Church\, 303
  6th Avenue\, Havre.   Come celebrate all you do for the children!
X-WR-RELCALID:6d553d41554989ed93817ca9398674c1
X-WR-TIMEZONE:America/Denver
BEGIN:VTIMEZONE
TZID:America/Denver
BEGIN:STANDARD
TZNAME:MST
DTSTART:20191103T020000
TZOFFSETFROM:-0600
TZOFFSETTO:-0700
RDATE:20201101T020000
END:STANDARD
BEGIN:DAYLIGHT
TZNAME:MDT
DTSTART:20190310T020000
TZOFFSETFROM:-0700
TZOFFSETTO:-0600
RDATE:20200308T020000
RDATE:20210314T020000
END:DAYLIGHT
END:VTIMEZONE
BEGIN:VEVENT
UID:06011a93-6cb0-48b6-8678-b5aa681bf04a
DTSTAMP:20260426T034942Z
DESCRIPTION:Dinner to celebrate our CASA volunteers.  The Board of Director
 s will provide a dinner for all volunteers at First Lutheran Church\, 303 
 6th Avenue\, Havre.   Come celebrate all you do for the children!
DTSTART;TZID=America/Denver:20191125T180000
DTEND;TZID=America/Denver:20191125T200000
LOCATION:First Lutheran Church Fellowship Hall
SUMMARY:Celebrate CASA Dinner
END:VEVENT
END:VCALENDAR
