BEGIN:VCALENDAR
VERSION:2.0
PRODID:-//casaofhillcounty.org//NONSGML kigkonsult.se iCalcreator 2.30.10//
CALSCALE:GREGORIAN
METHOD:PUBLISH
UID:a721684c-9f0e-4a91-9cd0-1a5f03de93bd
X-WR-CALDESC:Little Monkeys Daycare (Angela Toldness - CASA) are sponsoring
  a diaper drive for the Foster Closet and CASA of Hill County.  Drop off b
 oxes can be located at Little Monkeys Daycare\, IGA\, The Helping Haven\, 
 Busy Bee Child Care\, Little Miracles Daycare\, Little Miracles Daycare To
 o\, Kiddie Korner.\n\nI believe all babies deserve clean diapers. Please s
 how support by donating to my diaper drive!!!\n\nDid you know that 1 in 3 
 families struggle with diaper needs??? Help me change that.\n\nPlease dona
 te any size\, style or brand of diapers\, diaper wipes or diaper cream!!! 
 \n
X-WR-RELCALID:b9d0a643542f1fbd003cb6a35b7d04a4
X-WR-TIMEZONE:America/Denver
BEGIN:VTIMEZONE
TZID:America/Denver
BEGIN:STANDARD
TZNAME:MST
DTSTART:20191103T020000
TZOFFSETFROM:-0600
TZOFFSETTO:-0700
RDATE:20201101T020000
END:STANDARD
BEGIN:DAYLIGHT
TZNAME:MDT
DTSTART:20190310T020000
TZOFFSETFROM:-0700
TZOFFSETTO:-0600
RDATE:20200308T020000
RDATE:20210314T020000
END:DAYLIGHT
END:VTIMEZONE
BEGIN:VEVENT
UID:a6cfba64-f8f8-478b-a566-3d5f37c2a5af
DTSTAMP:20260426T020240Z
DESCRIPTION:Little Monkeys Daycare (Angela Toldness - CASA) are sponsoring 
 a diaper drive for the Foster Closet and CASA of Hill County.  Drop off bo
 xes can be located at Little Monkeys Daycare\, IGA\, The Helping Haven\, B
 usy Bee Child Care\, Little Miracles Daycare\, Little Miracles Daycare Too
 \, Kiddie Korner.\n\nI believe all babies deserve clean diapers. Please sh
 ow support by donating to my diaper drive!!!\n\nDid you know that 1 in 3 f
 amilies struggle with diaper needs??? Help me change that.\n\nPlease donat
 e any size\, style or brand of diapers\, diaper wipes or diaper cream!!! 
 \n
DTSTART;TZID=America/Denver:20191202T000000
DTEND;TZID=America/Denver:20191215T235900
LOCATION:Havre Area
SUMMARY:Holiday Diaper Drive
END:VEVENT
END:VCALENDAR
