BEGIN:VCALENDAR
VERSION:2.0
PRODID:-//casaofhillcounty.org//NONSGML kigkonsult.se iCalcreator 2.30.10//
CALSCALE:GREGORIAN
METHOD:PUBLISH
UID:afc050b1-821e-47e8-abf5-d4bc229297f2
X-WR-CALDESC:The CASA of Hill County Board of Directors meet monthly on the
  second Monday at 6:15pm in the Garden Side Room at HRDC.
X-WR-RELCALID:7fb40ddba184b9dee26e3058102b4c43
X-WR-TIMEZONE:America/Denver
BEGIN:VTIMEZONE
TZID:America/Denver
BEGIN:STANDARD
TZNAME:MST
DTSTART:20191103T020000
TZOFFSETFROM:-0600
TZOFFSETTO:-0700
RDATE:20201101T020000
END:STANDARD
BEGIN:DAYLIGHT
TZNAME:MDT
DTSTART:20190310T020000
TZOFFSETFROM:-0700
TZOFFSETTO:-0600
RDATE:20200308T020000
RDATE:20210314T020000
END:DAYLIGHT
END:VTIMEZONE
BEGIN:VEVENT
UID:4b8cc293-07e4-4b1b-8617-2e6fec0b02cb
DTSTAMP:20260426T020612Z
DESCRIPTION:The CASA of Hill County Board of Directors meet monthly on the 
 second Monday at 6:15pm in the Garden Side Room at HRDC.
DTSTART;TZID=America/Denver:20191209T181500
DTEND;TZID=America/Denver:20191209T191500
LOCATION:HRDC Garden Side Room
SUMMARY:BOD Meeting
END:VEVENT
END:VCALENDAR
