BEGIN:VCALENDAR
VERSION:2.0
PRODID:-//casaofhillcounty.org//NONSGML kigkonsult.se iCalcreator 2.30.10//
CALSCALE:GREGORIAN
METHOD:PUBLISH
UID:82a214bd-ecb2-493f-9508-cc4e3893b12f
X-WR-CALDESC:The Board will meet after the CASA training.   CPS Supervisor 
 Mark Douglass will be sharing Safety and Confidentiality topics with all o
 f us.  \n\nThe CASA of Hill County Board of Directors will meet if needed 
 to discuss business\, after the training.
X-WR-RELCALID:88ac6ddb7c902b0e71ef224835989695
X-WR-TIMEZONE:America/Denver
BEGIN:VTIMEZONE
TZID:America/Denver
BEGIN:STANDARD
TZNAME:MST
DTSTART:20191103T020000
TZOFFSETFROM:-0600
TZOFFSETTO:-0700
RDATE:20201101T020000
END:STANDARD
BEGIN:DAYLIGHT
TZNAME:MDT
DTSTART:20190310T020000
TZOFFSETFROM:-0700
TZOFFSETTO:-0600
RDATE:20200308T020000
RDATE:20210314T020000
END:DAYLIGHT
END:VTIMEZONE
BEGIN:VEVENT
UID:326a9cfa-0847-490c-883f-ae2d2976e4dd
DTSTAMP:20260426T020331Z
DESCRIPTION:The Board will meet after the CASA training.   CPS Supervisor M
 ark Douglass will be sharing Safety and Confidentiality topics with all of
  us.  \n\nThe CASA of Hill County Board of Directors will meet if needed t
 o discuss business\, after the training.
DTSTART;TZID=America/Denver:20191216T180000
DTEND;TZID=America/Denver:20191216T200000
LOCATION:HRDC Garden Side Room
SUMMARY:BOD Meeting
END:VEVENT
END:VCALENDAR
