BEGIN:VCALENDAR
VERSION:2.0
PRODID:-//casaofhillcounty.org//NONSGML kigkonsult.se iCalcreator 2.30.10//
CALSCALE:GREGORIAN
METHOD:PUBLISH
UID:c4d1e419-6775-47e4-97aa-8c8203d755cc
X-WR-CALDESC:The CASA of Hill County Board of Directors meet monthly on the
  second Monday at 6:15pm in the Garden Side Room at HRDC.
X-WR-RELCALID:00fa4a9d236909c64f7fa74488ae4789
X-WR-TIMEZONE:America/Denver
BEGIN:VTIMEZONE
TZID:America/Denver
BEGIN:STANDARD
TZNAME:MST
DTSTART:20191103T020000
TZOFFSETFROM:-0600
TZOFFSETTO:-0700
RDATE:20201101T020000
END:STANDARD
BEGIN:DAYLIGHT
TZNAME:MDT
DTSTART:20190310T020000
TZOFFSETFROM:-0700
TZOFFSETTO:-0600
RDATE:20200308T020000
RDATE:20210314T020000
END:DAYLIGHT
END:VTIMEZONE
BEGIN:VEVENT
UID:02fc61de-eb1e-4c28-82e1-80d424a6e32b
DTSTAMP:20260426T003401Z
DESCRIPTION:The CASA of Hill County Board of Directors meet monthly on the 
 second Monday at 6:15pm in the Garden Side Room at HRDC.
DTSTART;TZID=America/Denver:20200106T181500
DTEND;TZID=America/Denver:20200106T191500
LOCATION:HRDC Garden Side Room
SUMMARY:BOD Meeting
END:VEVENT
END:VCALENDAR
