BEGIN:VCALENDAR
VERSION:2.0
PRODID:-//casaofhillcounty.org//NONSGML kigkonsult.se iCalcreator 2.30.10//
CALSCALE:GREGORIAN
METHOD:PUBLISH
UID:4866937c-5314-47ea-8484-4d36ce599caa
X-WR-CALDESC:CASA Informational Session\nCourt Appointed Special Advocates
 \nWhat CASA volunteers do.   What it takes to be a CASA.\nJoin us and brin
 g any questions you have.
X-WR-RELCALID:0e376de324539df4585cda193cd03b24
X-WR-TIMEZONE:America/Denver
BEGIN:VTIMEZONE
TZID:America/Denver
BEGIN:STANDARD
TZNAME:MST
DTSTART:20191103T020000
TZOFFSETFROM:-0600
TZOFFSETTO:-0700
RDATE:20201101T020000
END:STANDARD
BEGIN:DAYLIGHT
TZNAME:MDT
DTSTART:20190310T020000
TZOFFSETFROM:-0700
TZOFFSETTO:-0600
RDATE:20200308T020000
RDATE:20210314T020000
END:DAYLIGHT
END:VTIMEZONE
BEGIN:VEVENT
UID:ad0bc107-97cc-4c6b-a043-8efcd0c35da9
DTSTAMP:20260426T004422Z
DESCRIPTION:CASA Informational Session\nCourt Appointed Special Advocates\n
 What CASA volunteers do.   What it takes to be a CASA.\nJoin us and bring 
 any questions you have.
DTSTART;TZID=America/Denver:20200107T180000
DTEND;TZID=America/Denver:20200107T200000
LOCATION:HRDD Garden Side Room
SUMMARY:CASA Info Session
END:VEVENT
END:VCALENDAR
