BEGIN:VCALENDAR
VERSION:2.0
PRODID:-//casaofhillcounty.org//NONSGML kigkonsult.se iCalcreator 2.30.10//
CALSCALE:GREGORIAN
METHOD:PUBLISH
UID:9692bf8a-4681-457b-b8f9-cd5065fe906d
X-WR-CALDESC:Our regular Monday CASA meeting - moved to Tuesday due to Jan.
  20th Holiday.
X-WR-RELCALID:4e605b5143ba31655713a72c7dd26871
X-WR-TIMEZONE:America/Denver
BEGIN:VTIMEZONE
TZID:America/Denver
BEGIN:STANDARD
TZNAME:MST
DTSTART:20191103T020000
TZOFFSETFROM:-0600
TZOFFSETTO:-0700
RDATE:20201101T020000
END:STANDARD
BEGIN:DAYLIGHT
TZNAME:MDT
DTSTART:20190310T020000
TZOFFSETFROM:-0700
TZOFFSETTO:-0600
RDATE:20200308T020000
RDATE:20210314T020000
END:DAYLIGHT
END:VTIMEZONE
BEGIN:VEVENT
UID:5b86f2e2-00be-4b8a-88c6-d655b3829d47
DTSTAMP:20260426T003849Z
DESCRIPTION:Our regular Monday CASA meeting - moved to Tuesday due to Jan. 
 20th Holiday.
DTSTART;TZID=America/Denver:20200121T180000
DTEND;TZID=America/Denver:20200121T200000
LOCATION:HRDC - Garden Side Room
SUMMARY:CASA Meeting
END:VEVENT
END:VCALENDAR
