BEGIN:VCALENDAR
VERSION:2.0
PRODID:-//casaofhillcounty.org//NONSGML kigkonsult.se iCalcreator 2.30.10//
CALSCALE:GREGORIAN
METHOD:PUBLISH
UID:d619bb27-456a-4f43-acf0-49b0de8fcc26
X-WR-CALDESC:CASA Informational Session\nCourt Appointed Special Advocates
 \nWhat CASA volunteers do.   What it takes to be a CASA.\nJoin us and brin
 g any questions you have.
X-WR-RELCALID:0f6c268914b838f5906ffa369b251946
X-WR-TIMEZONE:America/Denver
BEGIN:VTIMEZONE
TZID:America/Denver
BEGIN:STANDARD
TZNAME:MST
DTSTART:20191103T020000
TZOFFSETFROM:-0600
TZOFFSETTO:-0700
RDATE:20201101T020000
END:STANDARD
BEGIN:DAYLIGHT
TZNAME:MDT
DTSTART:20190310T020000
TZOFFSETFROM:-0700
TZOFFSETTO:-0600
RDATE:20200308T020000
RDATE:20210314T020000
END:DAYLIGHT
END:VTIMEZONE
BEGIN:VEVENT
UID:ed248533-9fb1-4cc8-8a49-2383cae05a67
DTSTAMP:20260425T231600Z
DESCRIPTION:CASA Informational Session\nCourt Appointed Special Advocates\n
 What CASA volunteers do.   What it takes to be a CASA.\nJoin us and bring 
 any questions you have.
DTSTART;TZID=America/Denver:20200212T130000
DTEND;TZID=America/Denver:20200212T140000
LOCATION:HRDD Garden Side Room
SUMMARY:CASA Info Session
END:VEVENT
END:VCALENDAR
