BEGIN:VCALENDAR
VERSION:2.0
PRODID:-//casaofhillcounty.org//NONSGML kigkonsult.se iCalcreator 2.30.10//
CALSCALE:GREGORIAN
METHOD:PUBLISH
UID:c11693de-ffed-434c-889a-9b8497c9709f
X-WR-CALDESC:CASA Informational Session\nCourt Appointed Special Advocates
 \nWhat CASA volunteers do.   What it takes to be a CASA.\nJoin us and brin
 g any questions you have.
X-WR-RELCALID:26f04d064c2a49bb3b24834533635d04
X-WR-TIMEZONE:America/Denver
BEGIN:VTIMEZONE
TZID:America/Denver
BEGIN:STANDARD
TZNAME:MST
DTSTART:20191103T020000
TZOFFSETFROM:-0600
TZOFFSETTO:-0700
RDATE:20201101T020000
END:STANDARD
BEGIN:DAYLIGHT
TZNAME:MDT
DTSTART:20190310T020000
TZOFFSETFROM:-0700
TZOFFSETTO:-0600
RDATE:20200308T020000
RDATE:20210314T020000
END:DAYLIGHT
END:VTIMEZONE
BEGIN:VEVENT
UID:5da3ad22-9b2b-4726-813a-d4b854cdd076
DTSTAMP:20260425T231221Z
DESCRIPTION:CASA Informational Session\nCourt Appointed Special Advocates\n
 What CASA volunteers do.   What it takes to be a CASA.\nJoin us and bring 
 any questions you have.
DTSTART;TZID=America/Denver:20200212T180000
DTEND;TZID=America/Denver:20200212T190000
LOCATION:HRDD Garden Side Room
SUMMARY:CASA Info Session
END:VEVENT
END:VCALENDAR
