BEGIN:VCALENDAR
VERSION:2.0
PRODID:-//casaofhillcounty.org//NONSGML kigkonsult.se iCalcreator 2.30.10//
CALSCALE:GREGORIAN
METHOD:PUBLISH
UID:2a46eb56-fe75-46e9-a9fe-7ee02d20b308
X-WR-CALDESC:CASA Informational Session\nCourt Appointed Special Advocates
 \nWhat CASA volunteers do.   What it takes to be a CASA.\nJoin us and brin
 g any questions you have.
X-WR-RELCALID:3762acc4c1593a6bbd6fa230be4e916a
X-WR-TIMEZONE:America/Denver
BEGIN:VTIMEZONE
TZID:America/Denver
BEGIN:STANDARD
TZNAME:MST
DTSTART:20191103T020000
TZOFFSETFROM:-0600
TZOFFSETTO:-0700
RDATE:20201101T020000
END:STANDARD
BEGIN:DAYLIGHT
TZNAME:MDT
DTSTART:20190310T020000
TZOFFSETFROM:-0700
TZOFFSETTO:-0600
RDATE:20200308T020000
RDATE:20210314T020000
END:DAYLIGHT
END:VTIMEZONE
BEGIN:VEVENT
UID:3151f2ec-d5bb-4345-882a-80b6fd300068
DTSTAMP:20260425T231347Z
DESCRIPTION:CASA Informational Session\nCourt Appointed Special Advocates\n
 What CASA volunteers do.   What it takes to be a CASA.\nJoin us and bring 
 any questions you have.
DTSTART;TZID=America/Denver:20200225T100000
DTEND;TZID=America/Denver:20200225T110000
LOCATION:HRDD Garden Side Room
SUMMARY:CASA Info Session
END:VEVENT
END:VCALENDAR
