BEGIN:VCALENDAR
VERSION:2.0
PRODID:-//casaofhillcounty.org//NONSGML kigkonsult.se iCalcreator 2.30.10//
CALSCALE:GREGORIAN
METHOD:PUBLISH
UID:5768a72a-655f-4275-91c6-6aeaecb1ab05
X-WR-CALDESC:The CASA of Hill County Board of Directors meet monthly on the
  second Monday at 6:15pm in the Garden Side Room at HRDC.
X-WR-RELCALID:5d0efd936f7130020e1ae5c67f052abe
X-WR-TIMEZONE:America/Denver
BEGIN:VTIMEZONE
TZID:America/Denver
BEGIN:STANDARD
TZNAME:MST
DTSTART:20191103T020000
TZOFFSETFROM:-0600
TZOFFSETTO:-0700
RDATE:20201101T020000
END:STANDARD
BEGIN:DAYLIGHT
TZNAME:MDT
DTSTART:20190310T020000
TZOFFSETFROM:-0700
TZOFFSETTO:-0600
RDATE:20200308T020000
RDATE:20210314T020000
END:DAYLIGHT
END:VTIMEZONE
BEGIN:VEVENT
UID:c9b64078-d2cf-43b0-b26a-111cb806497a
DTSTAMP:20260425T213518Z
DESCRIPTION:The CASA of Hill County Board of Directors meet monthly on the 
 second Monday at 6:15pm in the Garden Side Room at HRDC.
DTSTART;TZID=America/Denver:20200309T181500
DTEND;TZID=America/Denver:20200309T191500
LOCATION:HRDC Garden Side Room
SUMMARY:BOD Meeting
END:VEVENT
END:VCALENDAR
