BEGIN:VCALENDAR
VERSION:2.0
PRODID:-//casaofhillcounty.org//NONSGML kigkonsult.se iCalcreator 2.30.10//
CALSCALE:GREGORIAN
METHOD:PUBLISH
UID:0836fff2-4403-4b8b-bbe9-2711b132cab1
X-WR-CALDESC:Our office will be closed due to staff and volunteers attendin
 g the MT CASA Conference and the MT CAN Conference in Missoula\, MT.\nOur 
 office will be closed Monday thru Friday.  Please email or call 406-262-40
 99\, we will return your message as soon as we are able.
X-WR-RELCALID:79f7989f2d05ad800fec0501b4e299d6
X-WR-TIMEZONE:America/Denver
BEGIN:VTIMEZONE
TZID:America/Denver
BEGIN:STANDARD
TZNAME:MST
DTSTART:20191103T020000
TZOFFSETFROM:-0600
TZOFFSETTO:-0700
RDATE:20201101T020000
END:STANDARD
BEGIN:DAYLIGHT
TZNAME:MDT
DTSTART:20200308T020000
TZOFFSETFROM:-0700
TZOFFSETTO:-0600
RDATE:20210314T020000
END:DAYLIGHT
END:VTIMEZONE
BEGIN:VEVENT
UID:84dc1512-52ce-4811-9d64-f629b03a73fc
DTSTAMP:20260425T192727Z
DESCRIPTION:Our office will be closed due to staff and volunteers attending
  the MT CASA Conference and the MT CAN Conference in Missoula\, MT.\nOur o
 ffice will be closed Monday thru Friday.  Please email or call 406-262-409
 9\, we will return your message as soon as we are able.
DTSTART;TZID=America/Denver:20200330T000000
DTEND;TZID=America/Denver:20200403T235900
LOCATION:CASA of Hill County Office is Closed
SUMMARY:CASA Office Closed
END:VEVENT
END:VCALENDAR
