BEGIN:VCALENDAR
VERSION:2.0
PRODID:-//casaofhillcounty.org//NONSGML kigkonsult.se iCalcreator 2.30.10//
CALSCALE:GREGORIAN
METHOD:PUBLISH
UID:b27a94a0-5884-49a0-9732-6d7377095154
X-WR-CALDESC:Held at the Hilton Garden Inn\, the day before the MT CAN Conf
 erence begins - same hotel.   Contact Chamene Plum for more information
X-WR-RELCALID:0bd99fe4cad6425a427fdee73d8d0e71
X-WR-TIMEZONE:America/Denver
BEGIN:VTIMEZONE
TZID:America/Denver
BEGIN:STANDARD
TZNAME:MST
DTSTART:20191103T020000
TZOFFSETFROM:-0600
TZOFFSETTO:-0700
RDATE:20201101T020000
END:STANDARD
BEGIN:DAYLIGHT
TZNAME:MDT
DTSTART:20200308T020000
TZOFFSETFROM:-0700
TZOFFSETTO:-0600
RDATE:20210314T020000
END:DAYLIGHT
END:VTIMEZONE
BEGIN:VEVENT
UID:51009ef9-724b-486e-a931-acbc16a68c90
DTSTAMP:20260425T213342Z
DESCRIPTION:Held at the Hilton Garden Inn\, the day before the MT CAN Confe
 rence begins - same hotel.   Contact Chamene Plum for more information
DTSTART;TZID=America/Denver:20200330T110000
DTEND;TZID=America/Denver:20200330T170000
LOCATION:Missoula\, MT Hilton Garden Inn
SUMMARY:MT CASA Conference
END:VEVENT
END:VCALENDAR
