BEGIN:VCALENDAR
VERSION:2.0
PRODID:-//casaofhillcounty.org//NONSGML kigkonsult.se iCalcreator 2.30.10//
CALSCALE:GREGORIAN
METHOD:PUBLISH
UID:0f41d250-1b56-43b2-b19f-740c118c9165
X-WR-CALDESC:The Montana Prevent Child Abuse and Neglect Conference \n\nGo 
 to website for more info.
X-WR-RELCALID:b0d031dcba7915f328dfc5158e716529
X-WR-TIMEZONE:America/Denver
BEGIN:VTIMEZONE
TZID:America/Denver
BEGIN:STANDARD
TZNAME:MST
DTSTART:20191103T020000
TZOFFSETFROM:-0600
TZOFFSETTO:-0700
RDATE:20201101T020000
END:STANDARD
BEGIN:DAYLIGHT
TZNAME:MDT
DTSTART:20200308T020000
TZOFFSETFROM:-0700
TZOFFSETTO:-0600
RDATE:20210314T020000
END:DAYLIGHT
END:VTIMEZONE
BEGIN:VEVENT
UID:15110f41-ffd5-426d-ae51-f02422899dc9
DTSTAMP:20260425T193520Z
DESCRIPTION:The Montana Prevent Child Abuse and Neglect Conference \n\nGo t
 o website for more info.
DTSTART;TZID=America/Denver:20200331T110000
DTEND;TZID=America/Denver:20200402T150000
LOCATION:Missoula MT - Hilton Garden Inn
SUMMARY:MT Prevent Child Abuse & Neglect Conference
END:VEVENT
END:VCALENDAR
