BEGIN:VCALENDAR
VERSION:2.0
PRODID:-//casaofhillcounty.org//NONSGML kigkonsult.se iCalcreator 2.30.10//
CALSCALE:GREGORIAN
METHOD:PUBLISH
UID:6e1bd1b4-e23e-4754-91a1-baf49e71aebc
X-WR-CALDESC:The CASA of Hill County Board of Directors meet monthly on the
  second Monday at 6:15pm in the Garden Side Room at HRDC.
X-WR-RELCALID:e2e087153ceb0c591ee42b5d246bcdf5
X-WR-TIMEZONE:America/Denver
BEGIN:VTIMEZONE
TZID:America/Denver
BEGIN:STANDARD
TZNAME:MST
DTSTART:20191103T020000
TZOFFSETFROM:-0600
TZOFFSETTO:-0700
RDATE:20201101T020000
RDATE:20211107T020000
END:STANDARD
BEGIN:DAYLIGHT
TZNAME:MDT
DTSTART:20200308T020000
TZOFFSETFROM:-0700
TZOFFSETTO:-0600
RDATE:20210314T020000
END:DAYLIGHT
END:VTIMEZONE
BEGIN:VEVENT
UID:79a6ecda-7d25-46e2-ac0b-819318491229
DTSTAMP:20260425T160946Z
DESCRIPTION:The CASA of Hill County Board of Directors meet monthly on the 
 second Monday at 6:15pm in the Garden Side Room at HRDC.
DTSTART;TZID=America/Denver:20200608T181500
DTEND;TZID=America/Denver:20200608T191500
LOCATION:HRDC Garden Side Room
SUMMARY:BOD Meeting
END:VEVENT
END:VCALENDAR
