BEGIN:VCALENDAR
VERSION:2.0
PRODID:-//casaofhillcounty.org//NONSGML kigkonsult.se iCalcreator 2.30.10//
CALSCALE:GREGORIAN
METHOD:PUBLISH
UID:c26e16b5-2d9e-484f-a72f-77255c161bd3
X-WR-CALDESC:The CASA of Hill County Board of Directors meet monthly on the
  second Monday at 6:15pm in the Garden Side Room at HRDC.
X-WR-RELCALID:ba254a254fb994f1980f91438444181f
X-WR-TIMEZONE:America/Denver
BEGIN:VTIMEZONE
TZID:America/Denver
BEGIN:STANDARD
TZNAME:MST
DTSTART:20191103T020000
TZOFFSETFROM:-0600
TZOFFSETTO:-0700
RDATE:20201101T020000
RDATE:20211107T020000
END:STANDARD
BEGIN:DAYLIGHT
TZNAME:MDT
DTSTART:20200308T020000
TZOFFSETFROM:-0700
TZOFFSETTO:-0600
RDATE:20210314T020000
END:DAYLIGHT
END:VTIMEZONE
BEGIN:VEVENT
UID:d61df4ac-41f5-4d0d-a868-1134634e2bdd
DTSTAMP:20260425T122818Z
DESCRIPTION:The CASA of Hill County Board of Directors meet monthly on the 
 second Monday at 6:15pm in the Garden Side Room at HRDC.
DTSTART;TZID=America/Denver:20200810T181500
DTEND;TZID=America/Denver:20200810T191500
LOCATION:HRDC Garden Side Room
SUMMARY:BOD Meeting
END:VEVENT
END:VCALENDAR
