BEGIN:VCALENDAR
VERSION:2.0
PRODID:-//casaofhillcounty.org//NONSGML kigkonsult.se iCalcreator 2.30.10//
CALSCALE:GREGORIAN
METHOD:PUBLISH
UID:342ce15c-ecf7-4c39-a0fe-ad7289f68739
X-WR-CALDESC:The CASA of Hill County Board of Directors meet monthly on the
  second Monday.
X-WR-RELCALID:072e91c01d933099c951aee16e8946c0
X-WR-TIMEZONE:America/Denver
BEGIN:VTIMEZONE
TZID:America/Denver
BEGIN:STANDARD
TZNAME:MST
DTSTART:20201101T020000
TZOFFSETFROM:-0600
TZOFFSETTO:-0700
RDATE:20211107T020000
END:STANDARD
BEGIN:DAYLIGHT
TZNAME:MDT
DTSTART:20200308T020000
TZOFFSETFROM:-0700
TZOFFSETTO:-0600
RDATE:20210314T020000
RDATE:20220313T020000
END:DAYLIGHT
END:VTIMEZONE
BEGIN:VEVENT
UID:6be7301a-dc2a-4e0a-ae4a-358091df6da9
DTSTAMP:20260423T190537Z
DESCRIPTION:The CASA of Hill County Board of Directors meet monthly on the 
 second Monday.
DTSTART;TZID=America/Denver:20210208T183000
DTEND;TZID=America/Denver:20210208T200000
LOCATION:Zoom - ONLINE MEETING due to Covid
SUMMARY:BOD Meeting
END:VEVENT
END:VCALENDAR
