BEGIN:VCALENDAR
VERSION:2.0
PRODID:-//casaofhillcounty.org//NONSGML kigkonsult.se iCalcreator 2.30.10//
CALSCALE:GREGORIAN
METHOD:PUBLISH
UID:5b911299-9820-46ca-8696-24d59de00bd7
X-WR-CALDESC:The CASA of Hill County Board of Directors meet monthly on the
  second Monday.
X-WR-RELCALID:c9214b919f479b124ff524d654f5e879
X-WR-TIMEZONE:America/Denver
BEGIN:VTIMEZONE
TZID:America/Denver
BEGIN:STANDARD
TZNAME:MST
DTSTART:20201101T020000
TZOFFSETFROM:-0600
TZOFFSETTO:-0700
RDATE:20211107T020000
END:STANDARD
BEGIN:DAYLIGHT
TZNAME:MDT
DTSTART:20200308T020000
TZOFFSETFROM:-0700
TZOFFSETTO:-0600
RDATE:20210314T020000
RDATE:20220313T020000
END:DAYLIGHT
END:VTIMEZONE
BEGIN:VEVENT
UID:5a1a770c-8b32-4c2c-aca3-6e92b3f37d60
DTSTAMP:20260421T023940Z
DESCRIPTION:The CASA of Hill County Board of Directors meet monthly on the 
 second Monday.
DTSTART;TZID=America/Denver:20210308T183000
DTEND;TZID=America/Denver:20210308T200000
LOCATION:Zoom - ONLINE MEETING due to Covid
SUMMARY:BOD Meeting
END:VEVENT
END:VCALENDAR
