BEGIN:VCALENDAR
VERSION:2.0
PRODID:-//casaofhillcounty.org//NONSGML kigkonsult.se iCalcreator 2.30.10//
CALSCALE:GREGORIAN
METHOD:PUBLISH
UID:ae2fcde8-810d-43e3-bf18-ac5a51e42c26
X-WR-CALDESC:https://www.facebook.com/CASAofHillCounty
X-WR-RELCALID:abda5cd86f6686ae563a9552979e9949
X-WR-TIMEZONE:America/Denver
BEGIN:VTIMEZONE
TZID:America/Denver
BEGIN:STANDARD
TZNAME:MST
DTSTART:20211107T020000
TZOFFSETFROM:-0600
TZOFFSETTO:-0700
RDATE:20221106T020000
END:STANDARD
BEGIN:DAYLIGHT
TZNAME:MDT
DTSTART:20220313T020000
TZOFFSETFROM:-0700
TZOFFSETTO:-0600
RDATE:20230312T020000
END:DAYLIGHT
END:VTIMEZONE
BEGIN:VEVENT
UID:241fd2af-c9b7-443d-8e21-e5f8576d17d4
DTSTAMP:20260424T171552Z
DESCRIPTION:https://www.facebook.com/CASAofHillCounty
DTSTART;TZID=America/Denver:20220408T083000
DTEND;TZID=America/Denver:20220408T093000
LOCATION:
SUMMARY:Coffee with CASA
END:VEVENT
END:VCALENDAR
