BEGIN:VCALENDAR
VERSION:2.0
PRODID:-//casaofhillcounty.org//NONSGML kigkonsult.se iCalcreator 2.30.10//
CALSCALE:GREGORIAN
METHOD:PUBLISH
UID:246ac7aa-3915-48fc-988a-096765182b2e
X-WR-CALDESC:Office Closed April 12\, 13\, 14\nChild Abuse and Neglect Conf
 erence
X-WR-RELCALID:db9686c7c78cb7e256996ec9260721f6
X-WR-TIMEZONE:America/Denver
BEGIN:VTIMEZONE
TZID:America/Denver
BEGIN:STANDARD
TZNAME:MST
DTSTART:20211107T020000
TZOFFSETFROM:-0600
TZOFFSETTO:-0700
RDATE:20221106T020000
END:STANDARD
BEGIN:DAYLIGHT
TZNAME:MDT
DTSTART:20220313T020000
TZOFFSETFROM:-0700
TZOFFSETTO:-0600
RDATE:20230312T020000
END:DAYLIGHT
END:VTIMEZONE
BEGIN:VEVENT
UID:6a2f5437-c7f1-43b7-be87-ec495bfc6851
DTSTAMP:20260424T172558Z
DESCRIPTION:Office Closed April 12\, 13\, 14\nChild Abuse and Neglect Confe
 rence
DTSTART;TZID=America/Denver:20220412T000000
DTEND;TZID=America/Denver:20220414T235900
LOCATION:Virtual Conference - Office Closed
SUMMARY:CAN Conference
END:VEVENT
END:VCALENDAR
