BEGIN:VCALENDAR
VERSION:2.0
PRODID:-//casaofhillcounty.org//NONSGML kigkonsult.se iCalcreator 2.30.10//
CALSCALE:GREGORIAN
METHOD:PUBLISH
UID:dfbf8c34-b40b-411a-a993-e457af7d9d34
X-WR-CALDESC:Mention the fundraiser for CASA and 50% profits support CASA o
 f Hill County.\nPlease share with all your friends and family and share on
  Facebook/Instagram.  \n
X-WR-RELCALID:b59253e86081bc4664df30237e9cac28
X-WR-TIMEZONE:America/Denver
BEGIN:VTIMEZONE
TZID:America/Denver
BEGIN:STANDARD
TZNAME:MST
DTSTART:20211107T020000
TZOFFSETFROM:-0600
TZOFFSETTO:-0700
RDATE:20221106T020000
END:STANDARD
BEGIN:DAYLIGHT
TZNAME:MDT
DTSTART:20220313T020000
TZOFFSETFROM:-0700
TZOFFSETTO:-0600
RDATE:20230312T020000
END:DAYLIGHT
END:VTIMEZONE
BEGIN:VEVENT
UID:8e55a820-387a-468a-b08b-8ecb19b711fe
DTSTAMP:20260424T173035Z
DESCRIPTION:Mention the fundraiser for CASA and 50% profits support CASA of
  Hill County.\nPlease share with all your friends and family and share on 
 Facebook/Instagram.  \n
DTSTART;TZID=America/Denver:20220414T170000
DTEND;TZID=America/Denver:20220414T190000
LOCATION:Taco Johns - First Street - Havre
SUMMARY:Crunch for a Cause Fundraiser
END:VEVENT
END:VCALENDAR
