BEGIN:VCALENDAR
VERSION:2.0
PRODID:-//casaofhillcounty.org//NONSGML kigkonsult.se iCalcreator 2.30.10//
CALSCALE:GREGORIAN
METHOD:PUBLISH
UID:b942128e-b73b-4af6-8b8e-7847f7f94e4d
X-WR-CALDESC:https://www.facebook.com/CASAofHillCounty
X-WR-RELCALID:8693faef3390529e39d6283b39820bf1
X-WR-TIMEZONE:America/Denver
BEGIN:VTIMEZONE
TZID:America/Denver
BEGIN:STANDARD
TZNAME:MST
DTSTART:20211107T020000
TZOFFSETFROM:-0600
TZOFFSETTO:-0700
RDATE:20221106T020000
END:STANDARD
BEGIN:DAYLIGHT
TZNAME:MDT
DTSTART:20220313T020000
TZOFFSETFROM:-0700
TZOFFSETTO:-0600
RDATE:20230312T020000
END:DAYLIGHT
END:VTIMEZONE
BEGIN:VEVENT
UID:e61133c6-ea0d-457e-8455-1e02b0f5e009
DTSTAMP:20260424T172134Z
DESCRIPTION:https://www.facebook.com/CASAofHillCounty
DTSTART;TZID=America/Denver:20220422T083000
DTEND;TZID=America/Denver:20220422T093000
LOCATION:
SUMMARY:Coffee with CASA
END:VEVENT
END:VCALENDAR
