BEGIN:VCALENDAR
VERSION:2.0
PRODID:-//casaofhillcounty.org//NONSGML kigkonsult.se iCalcreator 2.30.10//
CALSCALE:GREGORIAN
METHOD:PUBLISH
UID:7403ed8b-f477-4e0c-bed9-f6288704cc50
X-WR-CALDESC:https://www.facebook.com/CASAofHillCounty
X-WR-RELCALID:890fed285ca32d9568edd1018bdac6f1
X-WR-TIMEZONE:America/Denver
BEGIN:VTIMEZONE
TZID:America/Denver
BEGIN:STANDARD
TZNAME:MST
DTSTART:20211107T020000
TZOFFSETFROM:-0600
TZOFFSETTO:-0700
RDATE:20221106T020000
END:STANDARD
BEGIN:DAYLIGHT
TZNAME:MDT
DTSTART:20220313T020000
TZOFFSETFROM:-0700
TZOFFSETTO:-0600
RDATE:20230312T020000
END:DAYLIGHT
END:VTIMEZONE
BEGIN:VEVENT
UID:06c59794-8f41-47a9-84a6-f53cb22861f5
DTSTAMP:20260424T171852Z
DESCRIPTION:https://www.facebook.com/CASAofHillCounty
DTSTART;TZID=America/Denver:20220429T083000
DTEND;TZID=America/Denver:20220429T093000
LOCATION:
SUMMARY:Coffee with CASA
END:VEVENT
END:VCALENDAR
