BEGIN:VCALENDAR
VERSION:2.0
PRODID:-//casaofhillcounty.org//NONSGML kigkonsult.se iCalcreator 2.30.10//
CALSCALE:GREGORIAN
METHOD:PUBLISH
UID:3b654eb0-58be-4ad2-ae37-67a4767bb47d
X-WR-CALDESC:The CASA of Hill County Board of Directors meet monthly on the
  second Monday.
X-WR-RELCALID:d450203d8afb22a008fef32ac2005dc1
X-WR-TIMEZONE:America/Denver
BEGIN:VTIMEZONE
TZID:America/Denver
BEGIN:STANDARD
TZNAME:MST
DTSTART:20211107T020000
TZOFFSETFROM:-0600
TZOFFSETTO:-0700
RDATE:20221106T020000
RDATE:20231105T020000
END:STANDARD
BEGIN:DAYLIGHT
TZNAME:MDT
DTSTART:20220313T020000
TZOFFSETFROM:-0700
TZOFFSETTO:-0600
RDATE:20230312T020000
END:DAYLIGHT
END:VTIMEZONE
BEGIN:VEVENT
UID:5faf0873-b67c-4a44-a604-8b6483e3850b
DTSTAMP:20260424T134315Z
DESCRIPTION:The CASA of Hill County Board of Directors meet monthly on the 
 second Monday.
DTSTART;TZID=America/Denver:20220613T183000
DTEND;TZID=America/Denver:20220613T200000
LOCATION:Zoom - ONLINE MEETING due to Covid
SUMMARY:BOD Meeting
END:VEVENT
END:VCALENDAR
