BEGIN:VCALENDAR
VERSION:2.0
PRODID:-//casaofhillcounty.org//NONSGML kigkonsult.se iCalcreator 2.30.10//
CALSCALE:GREGORIAN
METHOD:PUBLISH
UID:9c348038-4535-4dff-9369-21ee3322a485
X-WR-CALDESC:The CASA of Hill County Board of Directors meet monthly on the
  second Monday.
X-WR-RELCALID:d61b6c25edde6ccc2a4ef9e2c87fb6e6
X-WR-TIMEZONE:America/Denver
BEGIN:VTIMEZONE
TZID:America/Denver
BEGIN:STANDARD
TZNAME:MST
DTSTART:20211107T020000
TZOFFSETFROM:-0600
TZOFFSETTO:-0700
RDATE:20221106T020000
RDATE:20231105T020000
END:STANDARD
BEGIN:DAYLIGHT
TZNAME:MDT
DTSTART:20220313T020000
TZOFFSETFROM:-0700
TZOFFSETTO:-0600
RDATE:20230312T020000
END:DAYLIGHT
END:VTIMEZONE
BEGIN:VEVENT
UID:cfb2cb27-d240-4267-a387-7cf52bb0f2d1
DTSTAMP:20260422T230559Z
DESCRIPTION:The CASA of Hill County Board of Directors meet monthly on the 
 second Monday.
DTSTART;TZID=America/Denver:20220711T183000
DTEND;TZID=America/Denver:20220711T200000
LOCATION:Zoom - ONLINE MEETING due to Covid
SUMMARY:BOD Meeting
END:VEVENT
END:VCALENDAR
