BEGIN:VCALENDAR
VERSION:2.0
PRODID:-//casaofhillcounty.org//NONSGML kigkonsult.se iCalcreator 2.30.10//
CALSCALE:GREGORIAN
METHOD:PUBLISH
UID:ce8f1f96-fede-418a-9b97-b9bd07fc4104
X-WR-CALDESC:Prevent Child Abuse Awareness Month - Strengthening Families M
 onth
X-WR-RELCALID:49cbcc3e46606fcc81358309904d8b24
X-WR-TIMEZONE:America/Denver
BEGIN:VTIMEZONE
TZID:America/Denver
BEGIN:STANDARD
TZNAME:MST
DTSTART:20221106T020000
TZOFFSETFROM:-0600
TZOFFSETTO:-0700
RDATE:20231105T020000
END:STANDARD
BEGIN:DAYLIGHT
TZNAME:MDT
DTSTART:20230312T020000
TZOFFSETFROM:-0700
TZOFFSETTO:-0600
RDATE:20240310T020000
END:DAYLIGHT
END:VTIMEZONE
BEGIN:VEVENT
UID:6f3f2f32-ddc6-4c01-9e49-8e24972baa6b
DTSTAMP:20260424T091201Z
DESCRIPTION:Prevent Child Abuse Awareness Month - Strengthening Families Mo
 nth
DTSTART;TZID=America/Denver:20230401T000000
DTEND;TZID=America/Denver:20230401T235900
LOCATION:
SUMMARY:Prevent Child Abuse & Neglect Awareness Month
END:VEVENT
END:VCALENDAR
