BEGIN:VCALENDAR
VERSION:2.0
PRODID:-//casaofhillcounty.org//NONSGML kigkonsult.se iCalcreator 2.30.10//
CALSCALE:GREGORIAN
METHOD:PUBLISH
UID:39d9c025-1ca8-4861-9ab6-f6f78a018739
X-WR-CALDESC:
X-WR-RELCALID:17bb0ca3fc8fd2300e2a2a8dc9de1f73
X-WR-TIMEZONE:America/Denver
BEGIN:VTIMEZONE
TZID:America/Denver
BEGIN:STANDARD
TZNAME:MST
DTSTART:20221106T020000
TZOFFSETFROM:-0600
TZOFFSETTO:-0700
RDATE:20231105T020000
RDATE:20241103T020000
END:STANDARD
BEGIN:DAYLIGHT
TZNAME:MDT
DTSTART:20230312T020000
TZOFFSETFROM:-0700
TZOFFSETTO:-0600
RDATE:20240310T020000
END:DAYLIGHT
END:VTIMEZONE
BEGIN:VEVENT
UID:c1bde0cc-9c1b-4ad5-8f79-f4d032ccce7c
DTSTAMP:20260422T135344Z
DESCRIPTION:
DTSTART;TZID=America/Denver:20230601T120000
DTEND;TZID=America/Denver:20230601T130000
LOCATION:
SUMMARY:CASA Board Meets
END:VEVENT
END:VCALENDAR
