BEGIN:VCALENDAR
VERSION:2.0
PRODID:-//casaofhillcounty.org//NONSGML kigkonsult.se iCalcreator 2.30.10//
CALSCALE:GREGORIAN
METHOD:PUBLISH
UID:1735f8fe-6ed7-4c1a-9272-7e4f803f09b6
X-WR-CALDESC:
X-WR-RELCALID:b365cd49321b18ffe1e339b6ab87ddbd
X-WR-TIMEZONE:America/Denver
BEGIN:VTIMEZONE
TZID:America/Denver
BEGIN:STANDARD
TZNAME:MST
DTSTART:20221106T020000
TZOFFSETFROM:-0600
TZOFFSETTO:-0700
RDATE:20231105T020000
RDATE:20241103T020000
END:STANDARD
BEGIN:DAYLIGHT
TZNAME:MDT
DTSTART:20230312T020000
TZOFFSETFROM:-0700
TZOFFSETTO:-0600
RDATE:20240310T020000
END:DAYLIGHT
END:VTIMEZONE
BEGIN:VEVENT
UID:16454501-97b1-4d1b-b617-8120e17fc983
DTSTAMP:20260422T155917Z
DESCRIPTION:
DTSTART;TZID=America/Denver:20230706T120000
DTEND;TZID=America/Denver:20230706T130000
LOCATION:
SUMMARY:CASA Board Meets
END:VEVENT
END:VCALENDAR
