BEGIN:VCALENDAR
VERSION:2.0
PRODID:-//casaofhillcounty.org//NONSGML kigkonsult.se iCalcreator 2.30.10//
CALSCALE:GREGORIAN
METHOD:PUBLISH
UID:cf28c437-33ce-4940-afd5-af69cdcc13cb
X-WR-CALDESC:
X-WR-RELCALID:67ebd8ea8bb54ba67df77bdd7a5a25b8
X-WR-TIMEZONE:America/Denver
BEGIN:VTIMEZONE
TZID:America/Denver
BEGIN:STANDARD
TZNAME:MST
DTSTART:20221106T020000
TZOFFSETFROM:-0600
TZOFFSETTO:-0700
RDATE:20231105T020000
RDATE:20241103T020000
END:STANDARD
BEGIN:DAYLIGHT
TZNAME:MDT
DTSTART:20230312T020000
TZOFFSETFROM:-0700
TZOFFSETTO:-0600
RDATE:20240310T020000
END:DAYLIGHT
END:VTIMEZONE
BEGIN:VEVENT
UID:83df7e06-6ae1-456c-b02e-564675f138fe
DTSTAMP:20260424T090816Z
DESCRIPTION:
DTSTART;TZID=America/Denver:20230803T120000
DTEND;TZID=America/Denver:20230803T130000
LOCATION:
SUMMARY:CASA Board Meets
END:VEVENT
END:VCALENDAR
