BEGIN:VCALENDAR
VERSION:2.0
PRODID:-//casaofhillcounty.org//NONSGML kigkonsult.se iCalcreator 2.30.10//
CALSCALE:GREGORIAN
METHOD:PUBLISH
UID:beb594e7-336c-4fd0-97e7-26ba9c11cab4
X-WR-CALDESC:
X-WR-RELCALID:d4118c437525a2b96bdb9db031b51c07
X-WR-TIMEZONE:America/Denver
BEGIN:VTIMEZONE
TZID:America/Denver
BEGIN:STANDARD
TZNAME:MST
DTSTART:20221106T020000
TZOFFSETFROM:-0600
TZOFFSETTO:-0700
RDATE:20231105T020000
RDATE:20241103T020000
END:STANDARD
BEGIN:DAYLIGHT
TZNAME:MDT
DTSTART:20230312T020000
TZOFFSETFROM:-0700
TZOFFSETTO:-0600
RDATE:20240310T020000
END:DAYLIGHT
END:VTIMEZONE
BEGIN:VEVENT
UID:c20fe77f-5c9d-4023-943c-1a4a2616c2c7
DTSTAMP:20260422T191639Z
DESCRIPTION:
DTSTART;TZID=America/Denver:20230907T120000
DTEND;TZID=America/Denver:20230907T130000
LOCATION:
SUMMARY:CASA Board Meets
END:VEVENT
END:VCALENDAR
