BEGIN:VCALENDAR
VERSION:2.0
PRODID:-//casaofhillcounty.org//NONSGML kigkonsult.se iCalcreator 2.30.10//
CALSCALE:GREGORIAN
METHOD:PUBLISH
UID:d6c0ed40-cad1-4891-88c6-965c09a923ec
X-WR-CALDESC:
X-WR-RELCALID:d5d260974f48f84d9174c475a8a51c1f
X-WR-TIMEZONE:America/Denver
BEGIN:VTIMEZONE
TZID:America/Denver
BEGIN:STANDARD
TZNAME:MST
DTSTART:20221106T020000
TZOFFSETFROM:-0600
TZOFFSETTO:-0700
RDATE:20231105T020000
RDATE:20241103T020000
END:STANDARD
BEGIN:DAYLIGHT
TZNAME:MDT
DTSTART:20230312T020000
TZOFFSETFROM:-0700
TZOFFSETTO:-0600
RDATE:20240310T020000
RDATE:20250309T020000
END:DAYLIGHT
END:VTIMEZONE
BEGIN:VEVENT
UID:ac281ec2-0303-45cc-a888-22c62155777a
DTSTAMP:20260424T131954Z
DESCRIPTION:
DTSTART;TZID=America/Denver:20231005T120000
DTEND;TZID=America/Denver:20231005T130000
LOCATION:
SUMMARY:CASA Board Meets
END:VEVENT
END:VCALENDAR
