BEGIN:VCALENDAR
VERSION:2.0
PRODID:-//casaofhillcounty.org//NONSGML kigkonsult.se iCalcreator 2.30.10//
CALSCALE:GREGORIAN
METHOD:PUBLISH
UID:d46fd4bc-43d0-4b56-929a-bbaa424a5011
X-WR-CALDESC:Child Advocacy Center Training - forensic interviewing and how
  they help.
X-WR-RELCALID:f193b8ca0bb3ddf1add574edbf2ae4ea
X-WR-TIMEZONE:America/Denver
BEGIN:VTIMEZONE
TZID:America/Denver
BEGIN:STANDARD
TZNAME:MST
DTSTART:20231105T020000
TZOFFSETFROM:-0600
TZOFFSETTO:-0700
RDATE:20241103T020000
END:STANDARD
BEGIN:DAYLIGHT
TZNAME:MDT
DTSTART:20240310T020000
TZOFFSETFROM:-0700
TZOFFSETTO:-0600
RDATE:20250309T020000
END:DAYLIGHT
END:VTIMEZONE
BEGIN:VEVENT
UID:bfac9260-e92b-4248-996d-a7b812448674
DTSTAMP:20260422T191224Z
DESCRIPTION:Child Advocacy Center Training - forensic interviewing and how 
 they help.
DTSTART;TZID=America/Denver:20240318T180000
DTEND;TZID=America/Denver:20240318T200000
LOCATION:CASA Meeting Room / HRDC
SUMMARY:CASA Volunteer Meeting Training
END:VEVENT
END:VCALENDAR
